BEGIN:VCALENDAR
VERSION:2.0
PRODID:-//Fond du Lac Area Women&#039;s Fund - ECPv6.15.20//NONSGML v1.0//EN
CALSCALE:GREGORIAN
METHOD:PUBLISH
X-WR-CALNAME:Fond du Lac Area Women&#039;s Fund
X-ORIGINAL-URL:https://www.fdlawomensfund.org
X-WR-CALDESC:Events for Fond du Lac Area Women&#039;s Fund
REFRESH-INTERVAL;VALUE=DURATION:PT1H
X-Robots-Tag:noindex
X-PUBLISHED-TTL:PT1H
BEGIN:VTIMEZONE
TZID:UTC
BEGIN:STANDARD
TZOFFSETFROM:+0000
TZOFFSETTO:+0000
TZNAME:UTC
DTSTART:20210101T000000
END:STANDARD
END:VTIMEZONE
BEGIN:VEVENT
DTSTART;TZID=UTC:20221109T110000
DTEND;TZID=UTC:20221109T153000
DTSTAMP:20260419T151516
CREATED:20221007T150629Z
LAST-MODIFIED:20221007T151901Z
UID:1349-1667991600-1668007800@www.fdlawomensfund.org
SUMMARY:Leadercast Women-Amplify Event November 9th
DESCRIPTION:Research indicates that women regularly feel undervalued\, unappreciated and ignored in the workplace. This undermines their worth and severely limits the potential of a business. \nFond du Lac Area Women’s Fund\, in partnership with Leadercast Women\, looks to address this problem with our broadcast event – Amplify. \nAmplify is designed specifically for women participants who will discover the unique value of their own voices\, while being inspired by the wisdom of five prominent women leaders who magnify their voices\, serve others and positively impact the world. Each will share their personal story of failure and triumph\, helping attendees unlock their potential to be heard in a noisy world. \nAdditionally\, local executive coach Kim Galske of Rewired Dynamics will facilitate personal leadership activities on-site with attendees\, using the methods of The Peace Index. Participants will: \n\nLearn the five-part framework to finally find focus\, clarity and peace in the midst of a chaotic world\nLeverage powerful visual tools to get (and stay) on track to living the life they’ve always wanted\nIdentify the crucial gaps in personal well-being they’ve been avoiding\, and learn how to make progress in developing them\nRediscover purpose\, even if there’s a feeling of aimless right now\n\nThe Stayer Center is located on the Marian University Campus in Fond du Lac and the event runs from 11 a.m. to 3:30 p.m.\, beginning with lunch and networking. Tickets are $55 per person or $250 for a table of five (plus applicable processing fees).\nBuy tickets here: https://hometowntickets.com/leadercast
URL:https://www.fdlawomensfund.org/event/leadercast-women-amplify-event-november-9th/
LOCATION:Stayer Center Marian University\, 45 S. National Ave\, Fond du Lac\, WI\, 54935-4699\, United States
END:VEVENT
BEGIN:VEVENT
DTSTART;VALUE=DATE:20221108
DTEND;VALUE=DATE:20221109
DTSTAMP:20260419T151516
CREATED:20221007T150033Z
LAST-MODIFIED:20221007T150033Z
UID:1347-1667865600-1667951999@www.fdlawomensfund.org
SUMMARY:Vote Nov 8th
DESCRIPTION:According to a report released in January 2022 by the Wisconsin Policy Forum\, more female lawmakers are serving in the Wisconsin state Legislature than ever before (31% of legislative seats as of 2021).\n\n\nAnd although that number is on par with the majority of states nationwide\, it’s far from equal representation. It also marks a shift in a trend in Wisconsin from the 1980s to the early 2000s when our state outpaced most other states in the number of women lawmakers. See report here: https://wispolicyforum.org/…/more-women-elected-but…/\n\n\nThis disparity is especially important for the upcoming midterm elections\, when all seats in the State Assembly and half the State Senate seats (odd-numbered districts) are up for election. It’s an opportunity to change the landscape for women in office at the state level.\n\n\nSee who’s on your ballot by logging into www.myvote.wi.gov today\, research the candidates and make an informed decision on which candidate best represents your personal interests.
URL:https://www.fdlawomensfund.org/event/vote-nov-8th/
LOCATION:WI
END:VEVENT
BEGIN:VEVENT
DTSTART;VALUE=DATE:20221101
DTEND;VALUE=DATE:20230101
DTSTAMP:20260419T151516
CREATED:20221116T162226Z
LAST-MODIFIED:20221116T163024Z
UID:1390-1667260800-1672531199@www.fdlawomensfund.org
SUMMARY:Community Giving Challenge
DESCRIPTION:We are challenging the community to help us raise $15\,000 by year-end to support our FDL Says No More and Green Dot programming\, while also building our grantmaking capacity. Every dollar raised will be matched by generous gifts by the Lacey Sadoff Foundation and our Board of Directors. \nDouble your impact here: https://www.fdlawomensfund.org/double-your-impact-on…/
URL:https://www.fdlawomensfund.org/event/community-giving-challenge/
LOCATION:WI
END:VEVENT
BEGIN:VEVENT
DTSTART;VALUE=DATE:20221020
DTEND;VALUE=DATE:20221021
DTSTAMP:20260419T151516
CREATED:20221007T151154Z
LAST-MODIFIED:20221007T151154Z
UID:1351-1666224000-1666310399@www.fdlawomensfund.org
SUMMARY:October 20th Wear Purple
DESCRIPTION:October 20th wear purple to show your support for domestic violence prevention and awareness.
URL:https://www.fdlawomensfund.org/event/october-20th-wear-purple/
LOCATION:WI
END:VEVENT
BEGIN:VEVENT
DTSTART;VALUE=DATE:20221001
DTEND;VALUE=DATE:20221101
DTSTAMP:20260419T151516
CREATED:20221007T154425Z
LAST-MODIFIED:20221007T154425Z
UID:1358-1664582400-1667260799@www.fdlawomensfund.org
SUMMARY:Freshstart Smoking Cessation Program
DESCRIPTION:According to the CDC\, more than 200\,000 women die each year from smoking-related causes. The highest rate of smoking (16.7%) occurs among women between ages 25 and 44. Luckily\, prevention is achievable by quitting smoking and Advocate Aurora has a free local program\, sponsored by the American Cancer Society\, to help. Check out the details for Freshstart at www.aurora.org/smokefree or by scanning the QR code.
URL:https://www.fdlawomensfund.org/event/freshstart-smoking-cessation-program/
LOCATION:Advocate Aurora
END:VEVENT
BEGIN:VEVENT
DTSTART;TZID=UTC:20220427T113000
DTEND;TZID=UTC:20220427T130000
DTSTAMP:20260419T151516
CREATED:20220124T175514Z
LAST-MODIFIED:20220312T233552Z
UID:1274-1651059000-1651064400@www.fdlawomensfund.org
SUMMARY:Power of the Purse 2022: Mind If...
DESCRIPTION:Mind If… we gather together in the spirit of sisterhood and fulfilling our mission of facilitating bold change for Fond du Lac area women and girls? Mind If… we shine a spotlight on our newest foundational pillar – Health & Well-Being – and bring the conversation about mental health out of the shadow of stigma? \nMind If… we celebrate two young Women of Achievement – Kaitlyn Kenealy and Keziah Love – along with other SHEroes from our community who are making a difference in the field of mental health for local women and children? As women\, we can do anything we set our Minds on accomplishing – especially when we have the network and support of other women to join us in our purpose. \nSo let’s set our Minds on raising critical funding\, while raising awareness about mental health issues affecting local women and girls at the 18th annual Power of the Purse Luncheon from 11:30 a.m. to 1 p.m. at the Radisson Hotel and Conference Center\, Fond du Lac\, on Wednesday\, April 27. \nAll funds raised assist with our Fond du Lac Says No More initiative and its Green Dot Bystander Intervention Training and Project Table Talk\, as well as annual grant making partnerships that change the lives of more than 1\,500 local women and children every single year! \nGET YOUR TICKETS HERE \nTickets: $60 per person or community table of 8 for $450.  \nEarly bird registration: Get 15% off if registered by March 15 with Promo Code EARLYBIRD
URL:https://www.fdlawomensfund.org/event/power-of-the-purse-2022-mind-if/
LOCATION:RADISSON HOTEL AND CONFERENCE CENTER\, 625 W Rolling Meadows Dr\, Fond du Lac\, 54935\, United States
CATEGORIES:Community
END:VEVENT
END:VCALENDAR